BEGIN:VCALENDAR
VERSION:2.0
PRODID:-//ChamberMaster//Event Calendar 2.0//EN
METHOD:PUBLISH
X-PUBLISHED-TTL:P3D
REFRESH-INTERVAL:P3D
CALSCALE:GREGORIAN
BEGIN:VEVENT
DTSTART:20210827T030000Z
DTEND:20210827T043000Z
X-MICROSOFT-CDO-ALLDAYEVENT:FALSE
SUMMARY:Young Dubliners at the Alaska State Fair
DESCRIPTION:The Young Dubliners (aka the Young Dubs) are known worldwide for their fusion of traditional Irish music and modern rock 'n roll. During their more than 30-year career\, the Celtic rock band has released nine albums\, had their music featured in movies and commercials\, and toured the U.S. and Europe\, supporting music greats like Jethro Tull\, John Hiatt\, Chris Isaak\, Jonny Lang\, Great Big Sea and Collective Soul.
X-ALT-DESC;FMTTYPE=text/html:<span style="color:black"><span style="font-family:cambria\,serif">The Young Dubliners (aka the Young Dubs) are known worldwide for their fusion of traditional Irish music and modern rock &lsquo\;n roll. During their more than 30-year career\, the Celtic rock band has released nine albums\, had their music featured in movies and commercials\, and toured the U.S. and Europe\, supporting </span></span><span style="color:black"><span style="font-family:cambria\,serif">music greats like</span></span><span style="color:black"><span style="font-family:cambria\,serif"> Jethro Tull\, John Hiatt\, Chris Isaak\, Jonny Lang\, Great Big Sea and Collective Soul.</span></span><br />\n&nbsp\;
LOCATION:ConocoPhillips Borealis Theatre at the Alaska State Fair 2075 Glenn Hwy Palmer\, AK 99645
UID:e.3185.14319
SEQUENCE:3
DTSTAMP:20260420T151425Z
URL:http://greaterwasillaak.chambermaster.com/events/details/young-dubliners-14319
END:VEVENT

END:VCALENDAR
