BEGIN:VCALENDAR
VERSION:2.0
PRODID:-//ChamberMaster//Event Calendar 2.0//EN
METHOD:PUBLISH
X-PUBLISHED-TTL:P3D
REFRESH-INTERVAL:P3D
CALSCALE:GREGORIAN
BEGIN:VEVENT
DTSTART:20231014T190000Z
DTEND:20231016T020000Z
X-MICROSOFT-CDO-ALLDAYEVENT:FALSE
SUMMARY:Valley Comic-Con
DESCRIPTION:Join Aegis Comics of Alaska for Valley Comic-Con!\n\nOctober 14th and 15th at the Menard Sports Complex in Wasilla!\n\nLive artist panels\, Cosplay contest\, comic books and more!\n\n\n\nVendor spaces are almost sold out!\n\n\n\nMore information here.
X-ALT-DESC;FMTTYPE=text/html:Join Aegis Comics of Alaska for Valley Comic-Con!<br />\nOctober 14th and 15th at the Menard Sports Complex in Wasilla!<br />\nLive artist panels\, Cosplay contest\, comic books and more!<br />\n<br />\nVendor spaces are almost sold out!<br />\n<br />\n<a href="https://www.aegiscomicsalaska.com/">More information here.</a>
LOCATION:Menard Sports Complex 1001 S. Clapp St. Wasilla\, AK 99654
UID:e.3185.20427
SEQUENCE:3
DTSTAMP:20260421T071655Z
URL:http://greaterwasillaak.chambermaster.com/events/details/valley-comic-con-20427
END:VEVENT

END:VCALENDAR
