BEGIN:VCALENDAR
VERSION:2.0
PRODID:-//ChamberMaster//Event Calendar 2.0//EN
METHOD:PUBLISH
X-PUBLISHED-TTL:P3D
REFRESH-INTERVAL:P3D
CALSCALE:GREGORIAN
BEGIN:VEVENT
DTSTART;VALUE=DATE:20240417
DTEND;VALUE=DATE:20240522
TRANSP:TRANSPARENT
X-MICROSOFT-CDO-ALLDAYEVENT:TRUE
SUMMARY:Spring Raffle!!!
DESCRIPTION:GET YOUR TICKET TODAY!\n\n\nJoin the Excitement: Win Big with the Greater Wasilla Chamber of Commerce Spring Raffle!\n\nSpring is in full swing\, and with it comes the promise of new beginnings and exciting opportunities. If you're looking to add a touch of thrill to your season\, the Greater Wasilla Chamber of Commerce has an incredible offer for you. Prepare for the chance to win fabulous prizes and support your local community by purchasing your Spring Raffle tickets today!\n\nHere's what you need to know: The Spring Raffle is a limited-time event organized by the Greater Wasilla Chamber of Commerce. With a grand total of 26 enticing prizes up for grabs\, this is an opportunity you won't want to miss. From 2 round trip Alaska Airlines tickets to massages and gift cards galore\, there's something to suit everyone's taste and preferences.\n\nOne of the most exciting aspects of this raffle is the exclusivity. Only 300 tickets will be sold\, which means your odds of winning are truly remarkable. With such a limited number of tickets available\, the competition will be fierce\, but the rewards will be well worth it. By purchasing your $20 ticket\, you're not only increasing your chances of winning\; you're also supporting the local community and the initiatives undertaken by the Greater Wasilla Chamber of Commerce.\n\nMark your calendars because the drawing will be held on May 21st. That's right it's just around the corner! As the anticipation builds\, there's no better time to secure your ticket and let the excitement grow. Whether you're a long-time supporter of the Chamber or a newcomer looking to make a positive impact\, participating in the Spring Raffle is an excellent way to get involved and contribute to the growth and success of Wasilla.\n\nBut wait\, there's more! Let's take a closer look at the incredible prizes that await the lucky winners.\n\n\n	$100 Gift Certificate from Bearpaw River Brewing\n	$75 Gift Certificate to Jacobson's Greenhouse\n	1 Hr Massage from Alaska Massage Clinic\n	1 Hr Range Rental for 2 with all equipment included from Screaming Eagle\n	$100 Gift Card from Firehouse Subs\n	4-hour Kenai Fjords Wildlife Cruise for 2 from Major Marine Tours\n	$100 Gift Card to Blaze Pizza\n	1 Night Stay at Denali Bluff's Lodge\n	1 Hr Massage from Alaska Massage Clinic\n	Ball Cap\, Wallet\, Jewelry Set + 2 $25 gift certificates from CW Tack & Western Wear\n	2 Night Stay at A Piece of Alaska Treehouse Cabin\n	$100 Gift Card to Fish Creek Sales\n	Rock Chip Repair from Mat-su Glass Doctor\n	Prize Pack from Extreme Fun Center & Valley Cinema\n	Rock Chip Repair from Mat-su Glass Doctor\n	Bridal Veil Waterfall Kayak Tour for 2 with Miller's Landing\n	Caine's Head Kayak Paddle & Hike Adventure for 2 with Miller's Landing\n	Rock Chip Repair from Mat-su Glass Doctor\n	Family Fun Package from the Alaska State Fair\n	$100 worth of power from MEA\n	30-Minute Portrait Session with Jenna D' Photography\n	2 $50 Gift Cards to Allen & Petersen\n	$100 Gift Card from Meta & Rose\n	Gift Basket from Mat-Su Miners\n	1 Hr Massage from Alaska Massage Clinic\n	2 Round Trip Alaska Airlines Tickets\n\n\nBy participating in the Spring Raffle\, you're not only taking a shot at winning incredible prizes but also supporting the Greater Wasilla Chamber of Commerce in its mission to foster economic growth\, promote local businesses\, and enhance the quality of life for residents. Your contribution will directly impact the community\, helping to create opportunities\, jobs\, and a vibrant atmosphere for everyone to enjoy.\n\nSo\, don't miss out on this chance to win big and make a difference in your community. Purchase your Spring Raffle ticket from the Greater Wasilla Chamber of Commerce today. Remember\, only 300 tickets will be sold\, so act fast and secure your place in this thrilling event. May 21st will be here before you know it\, and you'll want to be part of the excitement as the winners are announced.\n\nEmbrace the spirit of the season and support your local community with the Greater Wasilla Chamber of Commerce Spring Raffle. Good luck!\n\n26 Prizes means 26 chances to win! Only 300 tickets will be sold!\n\n\nGET YOUR TICKET TODAY!
X-ALT-DESC;FMTTYPE=text/html:<div class="wp-block-buttons alignfull is-content-justification-center is-layout-flex wp-container-core-buttons-is-layout-1 wp-block-buttons-is-layout-flex" style="box-sizing: inherit\; gap: 24px\; display: flex\; flex-wrap: wrap\; align-items: center\; justify-content: center\; margin-left: -6.67em\; margin-right: -6.67em\; max-width: 100vw\; width: auto\; color: rgb(90\, 90\, 90)\; font-family: Ubuntu\, sans-serif\; font-size: 16px\;">\n<div class="wp-block-button has-custom-font-size has-large-font-size" style="box-sizing: inherit\; font-size: var(--wp--preset--font-size--large) !important\; margin: 0px\; display: inline-block\;"><a class="wp-block-button__link has-vivid-red-background-color has-background wp-element-button" href="https://square.link/u/VT65LGqX" rel="noreferrer noopener" style="box-sizing: border-box\; border-radius: 4px\; box-shadow: none\; padding: 16px 24px\; text-decoration-line: none\; background-color: rgb(1\, 0\, 0)\; color: rgb(255\, 255\, 255)\; transition: all 0.2s linear 0s\; cursor: pointer\; display: inline-block\; text-align: center\; word-break: break-word\; border-width: 0px\; font-family: Inter\, sans-serif\; font-size: inherit\; line-height: 1em\; outline: 0px\; border-style: solid\; border-color: rgb(56\, 125\, 255)\; text-transform: capitalize\;" target="_blank">GET YOUR TICKET TODAY!</a></div>\n</div>\n\n<p style="box-sizing: inherit\; border: 0px\; font-size: 16px\; margin: 0px 0px 1em\; outline: 0px\; padding: 0px\; vertical-align: baseline\; color: rgb(90\, 90\, 90)\; font-family: Ubuntu\, sans-serif\;"><span style="box-sizing: inherit\; font-weight: 700\;">Join the Excitement: Win Big with the Greater Wasilla Chamber of Commerce Spring Raffle!</span></p>\n\n<p style="box-sizing: inherit\; border: 0px\; font-size: 16px\; margin: 0px 0px 1em\; outline: 0px\; padding: 0px\; vertical-align: baseline\; color: rgb(90\, 90\, 90)\; font-family: Ubuntu\, sans-serif\;">Spring is in full swing\, and with it comes the promise of new beginnings and exciting opportunities. If you&rsquo\;re looking to add a touch of thrill to your season\, the Greater Wasilla Chamber of Commerce has an incredible offer for you. Prepare for the chance to win fabulous prizes and support your local community by purchasing your Spring Raffle tickets today!</p>\n\n<p style="box-sizing: inherit\; border: 0px\; font-size: 16px\; margin: 0px 0px 1em\; outline: 0px\; padding: 0px\; vertical-align: baseline\; color: rgb(90\, 90\, 90)\; font-family: Ubuntu\, sans-serif\;">Here&rsquo\;s what you need to know: The Spring Raffle is a limited-time event organized by the Greater Wasilla Chamber of Commerce. With a grand total of 26 enticing prizes up for grabs\, this is an opportunity you won&rsquo\;t want to miss. From 2 round trip Alaska Airlines tickets to massages and gift cards galore\, there&rsquo\;s something to suit everyone&rsquo\;s taste and preferences.</p>\n\n<p style="box-sizing: inherit\; border: 0px\; font-size: 16px\; margin: 0px 0px 1em\; outline: 0px\; padding: 0px\; vertical-align: baseline\; color: rgb(90\, 90\, 90)\; font-family: Ubuntu\, sans-serif\;">One of the most exciting aspects of this raffle is the exclusivity. Only 300 tickets will be sold\, which means your odds of winning are truly remarkable. With such a limited number of tickets available\, the competition will be fierce\, but the rewards will be well worth it. By purchasing your $20 ticket\, you&rsquo\;re not only increasing your chances of winning\; you&rsquo\;re also supporting the local community and the initiatives undertaken by the Greater Wasilla Chamber of Commerce.</p>\n\n<p style="box-sizing: inherit\; border: 0px\; font-size: 16px\; margin: 0px 0px 1em\; outline: 0px\; padding: 0px\; vertical-align: baseline\; color: rgb(90\, 90\, 90)\; font-family: Ubuntu\, sans-serif\;">Mark your calendars because the drawing will be held on May 21st. That&rsquo\;s right&mdash\;it&rsquo\;s just around the corner! As the anticipation builds\, there&rsquo\;s no better time to secure your ticket and let the excitement grow. Whether you&rsquo\;re a long-time supporter of the Chamber or a newcomer looking to make a positive impact\, participating in the Spring Raffle is an excellent way to get involved and contribute to the growth and success of Wasilla.</p>\n\n<p style="box-sizing: inherit\; border: 0px\; font-size: 16px\; margin: 0px 0px 1em\; outline: 0px\; padding: 0px\; vertical-align: baseline\; color: rgb(90\, 90\, 90)\; font-family: Ubuntu\, sans-serif\;">But wait\, there&rsquo\;s more! Let&rsquo\;s take a closer look at the incredible prizes that await the lucky winners.</p>\n\n<ol style="box-sizing: border-box\; border: 0px\; font-size: 16px\; margin: 0px 0px 1.5em 3em\; outline: 0px\; padding-right: 0px\; padding-left: 0px\; vertical-align: baseline\; list-style-position: initial\; list-style-image: initial\; color: rgb(90\, 90\, 90)\; font-family: Ubuntu\, sans-serif\;">\n	<li style="box-sizing: inherit\; border: 0px\; font-style: inherit\; font-weight: inherit\; margin: 0px\; outline: 0px\; padding: 0px\; vertical-align: baseline\;">$100 Gift Certificate from Bearpaw River Brewing</li>\n	<li style="box-sizing: inherit\; border: 0px\; font-style: inherit\; font-weight: inherit\; margin: 0px\; outline: 0px\; padding: 0px\; vertical-align: baseline\;">$75 Gift Certificate to Jacobson&rsquo\;s Greenhouse</li>\n	<li style="box-sizing: inherit\; border: 0px\; font-style: inherit\; font-weight: inherit\; margin: 0px\; outline: 0px\; padding: 0px\; vertical-align: baseline\;">1 Hr Massage from Alaska Massage Clinic</li>\n	<li style="box-sizing: inherit\; border: 0px\; font-style: inherit\; font-weight: inherit\; margin: 0px\; outline: 0px\; padding: 0px\; vertical-align: baseline\;">1 Hr Range Rental for 2 with all equipment included from Screaming Eagle</li>\n	<li style="box-sizing: inherit\; border: 0px\; font-style: inherit\; font-weight: inherit\; margin: 0px\; outline: 0px\; padding: 0px\; vertical-align: baseline\;">$100 Gift Card from Firehouse Subs</li>\n	<li style="box-sizing: inherit\; border: 0px\; font-style: inherit\; font-weight: inherit\; margin: 0px\; outline: 0px\; padding: 0px\; vertical-align: baseline\;">4-hour Kenai Fjords Wildlife Cruise for 2 from Major Marine Tours</li>\n	<li style="box-sizing: inherit\; border: 0px\; font-style: inherit\; font-weight: inherit\; margin: 0px\; outline: 0px\; padding: 0px\; vertical-align: baseline\;">$100 Gift Card to Blaze Pizza</li>\n	<li style="box-sizing: inherit\; border: 0px\; font-style: inherit\; font-weight: inherit\; margin: 0px\; outline: 0px\; padding: 0px\; vertical-align: baseline\;">1 Night Stay at Denali Bluff&rsquo\;s Lodge</li>\n	<li style="box-sizing: inherit\; border: 0px\; font-style: inherit\; font-weight: inherit\; margin: 0px\; outline: 0px\; padding: 0px\; vertical-align: baseline\;">1 Hr Massage from Alaska Massage Clinic</li>\n	<li style="box-sizing: inherit\; border: 0px\; font-style: inherit\; font-weight: inherit\; margin: 0px\; outline: 0px\; padding: 0px\; vertical-align: baseline\;">Ball Cap\, Wallet\, Jewelry Set + 2 $25 gift certificates from CW Tack &amp\; Western Wear</li>\n	<li style="box-sizing: inherit\; border: 0px\; font-style: inherit\; font-weight: inherit\; margin: 0px\; outline: 0px\; padding: 0px\; vertical-align: baseline\;">2 Night Stay at A Piece of Alaska Treehouse Cabin</li>\n	<li style="box-sizing: inherit\; border: 0px\; font-style: inherit\; font-weight: inherit\; margin: 0px\; outline: 0px\; padding: 0px\; vertical-align: baseline\;">$100 Gift Card to Fish Creek Sales</li>\n	<li style="box-sizing: inherit\; border: 0px\; font-style: inherit\; font-weight: inherit\; margin: 0px\; outline: 0px\; padding: 0px\; vertical-align: baseline\;">Rock Chip Repair from Mat-su Glass Doctor</li>\n	<li style="box-sizing: inherit\; border: 0px\; font-style: inherit\; font-weight: inherit\; margin: 0px\; outline: 0px\; padding: 0px\; vertical-align: baseline\;">Prize Pack from Extreme Fun Center &amp\; Valley Cinema</li>\n	<li style="box-sizing: inherit\; border: 0px\; font-style: inherit\; font-weight: inherit\; margin: 0px\; outline: 0px\; padding: 0px\; vertical-align: baseline\;">Rock Chip Repair from Mat-su Glass Doctor</li>\n	<li style="box-sizing: inherit\; border: 0px\; font-style: inherit\; font-weight: inherit\; margin: 0px\; outline: 0px\; padding: 0px\; vertical-align: baseline\;">Bridal Veil Waterfall Kayak Tour for 2 with Miller&rsquo\;s Landing</li>\n	<li style="box-sizing: inherit\; border: 0px\; font-style: inherit\; font-weight: inherit\; margin: 0px\; outline: 0px\; padding: 0px\; vertical-align: baseline\;">Caine&rsquo\;s Head Kayak Paddle &amp\; Hike Adventure for 2 with Miller&rsquo\;s Landing</li>\n	<li style="box-sizing: inherit\; border: 0px\; font-style: inherit\; font-weight: inherit\; margin: 0px\; outline: 0px\; padding: 0px\; vertical-align: baseline\;">Rock Chip Repair from Mat-su Glass Doctor</li>\n	<li style="box-sizing: inherit\; border: 0px\; font-style: inherit\; font-weight: inherit\; margin: 0px\; outline: 0px\; padding: 0px\; vertical-align: baseline\;">Family Fun Package from the Alaska State Fair</li>\n	<li style="box-sizing: inherit\; border: 0px\; font-style: inherit\; font-weight: inherit\; margin: 0px\; outline: 0px\; padding: 0px\; vertical-align: baseline\;">$100 worth of power from MEA</li>\n	<li style="box-sizing: inherit\; border: 0px\; font-style: inherit\; font-weight: inherit\; margin: 0px\; outline: 0px\; padding: 0px\; vertical-align: baseline\;">30-Minute Portrait Session with Jenna D&rsquo\; Photography</li>\n	<li style="box-sizing: inherit\; border: 0px\; font-style: inherit\; font-weight: inherit\; margin: 0px\; outline: 0px\; padding: 0px\; vertical-align: baseline\;">2 $50 Gift Cards to Allen &amp\; Petersen</li>\n	<li style="box-sizing: inherit\; border: 0px\; font-style: inherit\; font-weight: inherit\; margin: 0px\; outline: 0px\; padding: 0px\; vertical-align: baseline\;">$100 Gift Card from Meta &amp\; Rose</li>\n	<li style="box-sizing: inherit\; border: 0px\; font-style: inherit\; font-weight: inherit\; margin: 0px\; outline: 0px\; padding: 0px\; vertical-align: baseline\;">Gift Basket from Mat-Su Miners</li>\n	<li style="box-sizing: inherit\; border: 0px\; font-style: inherit\; font-weight: inherit\; margin: 0px\; outline: 0px\; padding: 0px\; vertical-align: baseline\;">1 Hr Massage from Alaska Massage Clinic</li>\n	<li style="box-sizing: inherit\; border: 0px\; font-style: inherit\; font-weight: inherit\; margin: 0px\; outline: 0px\; padding: 0px\; vertical-align: baseline\;">2 Round Trip Alaska Airlines Tickets</li>\n</ol>\n\n<p style="box-sizing: inherit\; border: 0px\; font-size: 16px\; margin: 0px 0px 1em\; outline: 0px\; padding: 0px\; vertical-align: baseline\; color: rgb(90\, 90\, 90)\; font-family: Ubuntu\, sans-serif\;">By participating in the Spring Raffle\, you&rsquo\;re not only taking a shot at winning incredible prizes but also supporting the Greater Wasilla Chamber of Commerce in its mission to foster economic growth\, promote local businesses\, and enhance the quality of life for residents. Your contribution will directly impact the community\, helping to create opportunities\, jobs\, and a vibrant atmosphere for everyone to enjoy.</p>\n\n<p style="box-sizing: inherit\; border: 0px\; font-size: 16px\; margin: 0px 0px 1em\; outline: 0px\; padding: 0px\; vertical-align: baseline\; color: rgb(90\, 90\, 90)\; font-family: Ubuntu\, sans-serif\;">So\, don&rsquo\;t miss out on this chance to win big and make a difference in your community. Purchase your Spring Raffle ticket from the Greater Wasilla Chamber of Commerce today. Remember\, only 300 tickets will be sold\, so act fast and secure your place in this thrilling event. May 21st will be here before you know it\, and you&rsquo\;ll want to be part of the excitement as the winners are announced.</p>\n\n<p style="box-sizing: inherit\; border: 0px\; font-size: 16px\; margin: 0px 0px 1em\; outline: 0px\; padding: 0px\; vertical-align: baseline\; color: rgb(90\, 90\, 90)\; font-family: Ubuntu\, sans-serif\;">Embrace the spirit of the season and support your local community with the Greater Wasilla Chamber of Commerce Spring Raffle. Good luck!</p>\n\n<h2 class="wp-block-heading has-text-align-center" style="box-sizing: inherit\; border: 0px\; font-size: 2.5rem\; margin: 0px 0px 20px\; outline: 0px\; padding: 0px\; vertical-align: baseline\; clear: both\; color: rgb(26\, 26\, 26)\; line-height: 1.3\; font-family: Oswald\, sans-serif\; text-align: center\;">26 Prizes means 26 chances to win! Only 300 tickets will be sold!</h2>\n\n<div class="wp-block-buttons is-content-justification-center is-layout-flex wp-container-core-buttons-is-layout-2 wp-block-buttons-is-layout-flex" style="box-sizing: inherit\; gap: 24px\; display: flex\; flex-wrap: wrap\; align-items: center\; justify-content: center\;">\n<div class="wp-block-button has-custom-font-size has-large-font-size" style="box-sizing: inherit\; font-size: var(--wp--preset--font-size--large) !important\; margin: 0px\; display: inline-block\;"><a class="wp-block-button__link has-vivid-red-background-color has-background wp-element-button" href="https://square.link/u/VT65LGqX" rel="noreferrer noopener" style="box-sizing: border-box\; border-radius: 4px\; box-shadow: none\; padding: 16px 24px\; text-decoration-line: none\; background-color: rgb(1\, 0\, 0)\; color: rgb(255\, 255\, 255)\; transition: all 0.2s linear 0s\; cursor: pointer\; display: inline-block\; text-align: center\; word-break: break-word\; border-width: 0px\; font-family: Inter\, sans-serif\; font-size: inherit\; line-height: 1em\; outline: 0px\; border-style: solid\; border-color: rgb(56\, 125\, 255)\; text-transform: capitalize\;" target="_blank">GET YOUR TICKET TODAY!</a></div>\n\n<div>&nbsp\;</div>\n</div>\n\n<div class="addtoany_share_save_container addtoany_content addtoany_content_bottom" style="box-sizing: inherit\; clear: both\; margin: 16px auto 0px\;">\n<div class="a2a_kit a2a_kit_size_32 addtoany_list" data-a2a-title="Get Your Spring Raffle Tickets Today!" data-a2a-url="https://wasillachamber.org/get-your-spring-raffle-tickets-today-2/" style="box-sizing: inherit\; display: inline\; line-height: 32px\; touch-action: manipulation\; outline: 0px\;"><a class="a2a_button_facebook" href="https://wasillachamber.org/#facebook" rel="nofollow noopener" style="box-sizing: inherit\; background-color: transparent\; text-decoration-line: none\; color: rgb(234\, 0\, 0)\; transition: none 0s ease 0s\; border: 0px\; box-shadow: none\; display: inline-block\; font-size: 32px\; padding: 0px 4px 0px 0px\; vertical-align: middle\; cursor: pointer\;" target="_blank" title="Facebook"><span class="a2a_svg a2a_s__default a2a_s_facebook" style="box-sizing: inherit\; background-repeat: repeat\; display: inline-block\; overflow: hidden\; height: 32px\; line-height: 32px\; padding: 0px\; pointer-events: none\; width: 32px\; float: none\; border-radius: 4px\; opacity: 1\; font-family: Ubuntu\, sans-serif\; background-color: rgb(8\, 102\, 255)\;"><svg aria-hidden="true" focusable="false" viewbox="0 0 32 32" xmlns="http://www.w3.org/2000/svg"><path d="M28 16c0-6.627-5.373-12-12-12S4 9.373 4 16c0 5.628 3.875 10.35 9.101 11.647v-7.98h-2.474V16H13.1v-1.58c0-4.085 1.849-5.978 5.859-5.978.76 0 2.072.15 2.608.298v3.325c-.283-.03-.775-.045-1.386-.045-1.967 0-2.728.745-2.728 2.683V16h3.92l-.673 3.667h-3.247v8.245C23.395 27.195 28 22.135 28 16Z" fill="#fff"></path></svg></span></a></div>\n</div>\n
LOCATION:Purchase tickets at the provided link or come into the GWCC office 1155 E Depot Rd. Wasilla\, AK 99654
UID:e.3185.21977
SEQUENCE:3
DTSTAMP:20260425T022357Z
URL:http://greaterwasillaak.chambermaster.com/events/details/spring-raffle-21977
END:VEVENT

END:VCALENDAR
