BEGIN:VCALENDAR
VERSION:2.0
PRODID:-//ChamberMaster//Event Calendar 2.0//EN
METHOD:PUBLISH
X-PUBLISHED-TTL:P3D
REFRESH-INTERVAL:P3D
CALSCALE:GREGORIAN
BEGIN:VEVENT
DTSTART;VALUE=DATE:20211025
DTEND;VALUE=DATE:20211026
TRANSP:TRANSPARENT
X-MICROSOFT-CDO-ALLDAYEVENT:TRUE
SUMMARY:Northern Industrial Training Administrative Assistant Training Program Begins
DESCRIPTION:Enrolling for the Oct. 25   Nov. 19 Admin Assistant Training Program. Learn skills for a career that is an integral part of any office across any industry. Enroll today!
X-ALT-DESC;FMTTYPE=text/html:<span style="color: rgb(5\, 5\, 5)\; font-family: &quot\;Segoe UI Historic&quot\;\, &quot\;Segoe UI&quot\;\, Helvetica\, Arial\, sans-serif\; font-size: 15px\; white-space: pre-wrap\;">Enrolling for the Oct. 25 &ndash\; Nov. 19 Admin Assistant Training Program. Learn skills for a career that is an integral part of any office across any industry. Enroll today!</span>
LOCATION:Northern Industrial training 1740 N. Terrilou Ct. Palmer\, AK 99645
UID:e.3185.14655
SEQUENCE:3
DTSTAMP:20260422T004056Z
URL:http://greaterwasillaak.chambermaster.com/events/details/northern-industrial-training-administrative-assistant-training-program-begins-14655
END:VEVENT

END:VCALENDAR
