BEGIN:VCALENDAR
VERSION:2.0
PRODID:-//ChamberMaster//Event Calendar 2.0//EN
METHOD:PUBLISH
X-PUBLISHED-TTL:P3D
REFRESH-INTERVAL:P3D
CALSCALE:GREGORIAN
BEGIN:VEVENT
DTSTART:20231107T170000Z
DTEND:20231108T020000Z
X-MICROSOFT-CDO-ALLDAYEVENT:FALSE
SUMMARY:NIT's Structural Welding Programs Begin
DESCRIPTION:Qualified welders are in high demand all over the world. There are numerous opportunities for welders in heavy construction\, manufacturing\, ship building\, and auto racing.\n\nThere is a lot more to welding than simply applying an electric arc to the base metals. Welders have more than 100 different types of welding processes to use. Welders must know the characteristics of the metals being welded\,the special materials and techniques that apply to the different metals for welding\, and how to interpret welding specifications.\n\nExamples of typical work include joining pipe sections for oil and natural gas pipelines\, building ships\, and working in a variety of industrial environments such as power plants\, refineries\, chemical plants\, and manufacturing facilities. Additionally\, as industry and technology continue to advance\, new applications for welding in the workplace are being discovered.\n\nNIT's welding programs provide students the training and practice required to qualify\, certify\, and succeed in the welding industry.\n\n\n\nLink for more information on all programs here
X-ALT-DESC;FMTTYPE=text/html:<p style="box-sizing: border-box\; border: 0px\; font-size: 18px\; margin: 0px 0px 1.6em\; outline: 0px\; padding: 0px\; vertical-align: baseline\; font-family: &quot\;Museo Sans&quot\;\, Verdana\, Arial\, sans-serif\; color: rgb(75\, 79\, 88)\;">Qualified welders are in high demand all over the world. There are numerous opportunities for welders in heavy construction\, manufacturing\, ship building\, and auto racing.</p>\n\n<p style="box-sizing: border-box\; border: 0px\; font-size: 18px\; margin: 0px 0px 1.6em\; outline: 0px\; padding: 0px\; vertical-align: baseline\; font-family: &quot\;Museo Sans&quot\;\, Verdana\, Arial\, sans-serif\; color: rgb(75\, 79\, 88)\;">There is a lot more to welding than simply applying an electric arc to the base metals. Welders have more than 100 different types of welding processes to use. Welders must know the characteristics of the metals being welded\,the special materials and techniques that apply to the different metals for welding\, and how to interpret welding specifications.</p>\n\n<p style="box-sizing: border-box\; border: 0px\; font-size: 18px\; margin: 0px 0px 1.6em\; outline: 0px\; padding: 0px\; vertical-align: baseline\; font-family: &quot\;Museo Sans&quot\;\, Verdana\, Arial\, sans-serif\; color: rgb(75\, 79\, 88)\;">Examples of typical work include joining pipe sections for oil and natural gas pipelines\, building ships\, and working in a variety of industrial environments such as power plants\, refineries\, chemical plants\, and manufacturing facilities. Additionally\, as industry and technology continue to advance\, new applications for welding in the workplace are being discovered.</p>\n\n<p style="box-sizing: border-box\; border: 0px\; font-size: 18px\; margin: 0px 0px 1.6em\; outline: 0px\; padding: 0px\; vertical-align: baseline\; font-family: &quot\;Museo Sans&quot\;\, Verdana\, Arial\, sans-serif\; color: rgb(75\, 79\, 88)\;">NIT&rsquo\;s welding programs provide students the training and practice required to qualify\, certify\, and succeed in the welding industry.<br />\n<br />\nLink for more information on all programs <a href="https://nitalaska.com/welding/">here</a></p>\n
LOCATION:Northern Industrial Training 1740 N. Terrilou Ct. Palmer\, AK 99645
UID:e.3185.21143
SEQUENCE:3
DTSTAMP:20260420T094054Z
URL:http://greaterwasillaak.chambermaster.com/events/details/nit-s-structural-welding-programs-begin-21143
END:VEVENT

END:VCALENDAR
