BEGIN:VCALENDAR
VERSION:2.0
PRODID:-//ChamberMaster//Event Calendar 2.0//EN
METHOD:PUBLISH
X-PUBLISHED-TTL:P3D
REFRESH-INTERVAL:P3D
CALSCALE:GREGORIAN
BEGIN:VEVENT
DTSTART:20231018T191500Z
DTEND:20231018T201500Z
X-MICROSOFT-CDO-ALLDAYEVENT:FALSE
SUMMARY:Beginner Archery Classes Begin at Screaming Eagle Archery
DESCRIPTION:Perfect for anyone who has never shot a bow before or are just getting started. Suitable for ages 6-100 years of age!\n\nBeginning group classes are taught on a Genesis bow (no exceptions and is provided for each student).\n\n\n\nBeginning Archery Lessons are conducted as four-week sessions\, one hour per week. The students will be taught range safety and equipment safety as well as an eight-step shot sequence.\n\n\n\nAdvanced registration required.
X-ALT-DESC;FMTTYPE=text/html:Perfect for anyone who has never shot a bow before or are just getting started. Suitable for ages 6-100 years of age!<br />\nBeginning group classes are taught on a Genesis bow (no exceptions and is provided for each student).<br />\n<br />\nBeginning Archery Lessons are conducted as four-week sessions\, one hour per week. The students will be taught range safety and equipment safety as well as an eight-step shot sequence.<br />\n<br />\n<strong>Advanced registration required.</strong>
LOCATION:Screaming Eagle Archery 210 E. Park Ave\, Wasilla\, AK 99654
UID:e.3185.20860
SEQUENCE:3
DTSTAMP:20260420T075243Z
URL:http://greaterwasillaak.chambermaster.com/events/details/beginner-archery-classes-begin-at-screaming-eagle-archery-20860
END:VEVENT

END:VCALENDAR
